BEGIN:VCALENDAR
VERSION:2.0
PRODID:-//WarriorSchool - ECPv4.9.2//NONSGML v1.0//EN
CALSCALE:GREGORIAN
METHOD:PUBLISH
X-WR-CALNAME:WarriorSchool
X-ORIGINAL-URL:https://warriorschool.com
X-WR-CALDESC:Events for WarriorSchool
BEGIN:VEVENT
DTSTART;TZID=UTC-7:20181011T090000
DTEND;TZID=UTC-7:20181014T050000
DTSTAMP:20260423T044528
CREATED:20180808T212518Z
LAST-MODIFIED:20181004T183125Z
UID:1428-1539248400-1539493200@warriorschool.com
SUMMARY:Women Warrior Week
DESCRIPTION:This 4 day ladies only course will prepare you for just about anything.  And woe to those who cross you! \nDay 1:  Fightback \nLive free from fear and empower yourself!  Fightback is a fun\, safe\, self-defense course that ensures you come home safely to those that love and need you! Fightback uses proven\, natural body movement to counter attacks against women in any situation and does not require speed or strength!  You will learn:  Threat awareness\, using fear and adrenaline\, to fight without speed or strength\, the truth about rape\, the survival mindset\, using your car as a weapon\, to escape while pinned on your back\, even knife and gun disarmament. \nDay 2:  Ladies Handgun Part 1 \nState of the art handgun training\, even if you’ve never fired a weapon before.  Experienced shooters will gain new refinements in accuracy and technique.  You learn:  Weapon safety\, legal ramifications\, parts of a gun and how they work\, how a bullet works and how it stops an attacker\, choosing the right gun\, ammunition and accessories\, awareness and the Fight or Flight Reflex\, drawing\, gripping and firing your weapon\, malfunction recovery and immediate action drills\, plus gunfight tricks and tips. \nDay 3:  Vehicle Escape and Evade \nThis Tactical Vehicular Operations Course teaches how to avoid pedestrian strikes\, vehicle dynamics\, vehicle as improvised weapon\, slow slalom\, fast slalom\, crisis driving\, threshold braking\, wounded driving\, passenger seat driving\, J and bootleg turns\,  high speed backing\, shooting within\, without and around vehicle utilizing blue\, UTM and or live fire depending on safety and skill levels of student. \nDay 4:  Ladies Handgun Part 2 with UTM Force on Force Scenario Training \nAs close to actually defending yourself with your firearms using marking round paint bullets in a safe but realistic adrenaline charged format\, whether on foot or in your car! \nAbout the Instructor: \nMajor Jeffry Prather\, USA(ret.) served in 7th Special Forces as an intlligence officer and is an SFSOT graduate\, the DEA as a special agent\, special operator and primary firearms instructor\, and with DIA as an intelligence collector and eventually Chief of their Global Operations Center. He is an NRA LE PFI for pistol\, rifle\, and shotgun\, IALEFI keynote speaker\, AZ DPS firearms\, unarmed and armed instructor\, and has been published in Black Belt\, SWAT\, Tactical Defense and other magazines\, as well as a guest on national radio and TV news as a subject matter expert. His tactical books and DVDs were carried in AAFES for years worldwide. \n  \n
URL:https://warriorschool.com/course/women-warrior-week/
LOCATION:Broadway Classroom\, 4518 East Broadway\, Tucson\, AZ\, 85711\, United States
GEO:32.2210847;-110.896308
X-APPLE-STRUCTURED-LOCATION;VALUE=URI;X-ADDRESS=Broadway Classroom 4518 East Broadway Tucson AZ 85711 United States;X-APPLE-RADIUS=500;X-TITLE=4518 East Broadway:geo:-110.896308,32.2210847
CATEGORIES:Defense,Security
ORGANIZER;CN="Warrior%20School":MAILTO:info@warriorschool.com
END:VEVENT
END:VCALENDAR