BEGIN:VCALENDAR
VERSION:2.0
PRODID:-//WarriorSchool - ECPv4.9.2//NONSGML v1.0//EN
CALSCALE:GREGORIAN
METHOD:PUBLISH
X-WR-CALNAME:WarriorSchool
X-ORIGINAL-URL:https://warriorschool.com
X-WR-CALDESC:Events for WarriorSchool
BEGIN:VEVENT
DTSTART;TZID=UTC-7:20171004T193000
DTEND;TZID=UTC-7:20171004T210000
DTSTAMP:20260422T144626
CREATED:20170929T002115Z
LAST-MODIFIED:20170929T002222Z
UID:920-1507145400-1507150800@warriorschool.com
SUMMARY:Real World Combatives
DESCRIPTION:Be ready to stop the next school shooter\, terrorist bomber\, or crazed knife attacker.  No belts. No ranks.  Just cutting edge combative for today’s dangerous real world.  Perfect for busy law enforcement\, security personnel -paid or volunteer\, or traditional martial artists who want to be prepared.   Hope is not a plan! \nStudy the latest attacks and how to recognize\, prevent and counter them.  Learn the best techniques\, tactics and practices for unarmed or improvised weaponry response via Real World Combatives. \n$75 per month – every Wednesday 7:30-9:00 pm. \nTaught by internationally recognized  combatives expert Jeff Prather\, who has taught combatives to tens of thousands of soldiers\, sometimes six hundred a day\, for weeks! Want even more? Check www.bujinkanUSA.com \n
URL:https://warriorschool.com/course/real-world-combatives/
LOCATION:Broadway Classroom\, 4518 East Broadway\, Tucson\, AZ\, 85711\, United States
GEO:32.2210847;-110.896308
X-APPLE-STRUCTURED-LOCATION;VALUE=URI;X-ADDRESS=Broadway Classroom 4518 East Broadway Tucson AZ 85711 United States;X-APPLE-RADIUS=500;X-TITLE=4518 East Broadway:geo:-110.896308,32.2210847
CATEGORIES:Defense,Security
ORGANIZER;CN="Warrior%20School":MAILTO:info@warriorschool.com
END:VEVENT
END:VCALENDAR