BEGIN:VCALENDAR
VERSION:2.0
PRODID:-//WarriorSchool - ECPv4.9.2//NONSGML v1.0//EN
CALSCALE:GREGORIAN
METHOD:PUBLISH
X-WR-CALNAME:WarriorSchool
X-ORIGINAL-URL:https://warriorschool.com
X-WR-CALDESC:Events for WarriorSchool
BEGIN:VEVENT
DTSTART;TZID=UTC-7:20170625T090000
DTEND;TZID=UTC-7:20170625T140000
DTSTAMP:20260422T064126
CREATED:20161230T180631Z
LAST-MODIFIED:20180525T180838Z
UID:448-1498381200-1498399200@warriorschool.com
SUMMARY:Tactical Blade - Prather War Bowie
DESCRIPTION:Tactical Blade – Prather War Bowie:   From Jim Bowie’s to the Marine’s Kabar the bowie is America’s blade. The Prather War Bowie is America’s sword. Designed by Warriorschool founder and blade expert Jeff Prather\, the PWB is acclaimed nationally and internationally as the next level bowie design for field craft and battlefield.  \nIn this acclaimed seminar you learn the history of the bowie\, why the bowie is uniquely suited for woods and battlefield\,  and the best techniques\, tactics and practices from sheaths to cuts for employing the PWB. \nPart live cutting and part training this class requires a live blade and a training blade. A hand made wood PWB trainer is available for purchase with this course. \n
URL:https://warriorschool.com/course/prather-war-bowie-the-american-sword/
LOCATION:Broadway Classroom\, 4518 East Broadway\, Tucson\, AZ\, 85711\, United States
GEO:32.2210847;-110.896308
X-APPLE-STRUCTURED-LOCATION;VALUE=URI;X-ADDRESS=Broadway Classroom 4518 East Broadway Tucson AZ 85711 United States;X-APPLE-RADIUS=500;X-TITLE=4518 East Broadway:geo:-110.896308,32.2210847
CATEGORIES:All,Defense
ORGANIZER;CN="Warrior%20School":MAILTO:info@warriorschool.com
END:VEVENT
END:VCALENDAR