BEGIN:VCALENDAR
VERSION:2.0
PRODID:-//WarriorSchool - ECPv4.9.2//NONSGML v1.0//EN
CALSCALE:GREGORIAN
METHOD:PUBLISH
X-WR-CALNAME:WarriorSchool
X-ORIGINAL-URL:https://warriorschool.com
X-WR-CALDESC:Events for WarriorSchool
BEGIN:VEVENT
DTSTART;TZID=UTC-7:20170812T090000
DTEND;TZID=UTC-7:20170812T170000
DTSTAMP:20260423T115147
CREATED:20161229T210657Z
LAST-MODIFIED:20170530T190252Z
UID:365-1502528400-1502557200@warriorschool.com
SUMMARY:Ladies Fightback!
DESCRIPTION:It is possible to live your life free from fear. Ladies Fightback is a self-defense course designed specifically for the attacks that happen against women and has been taught all over the world! This unique\, and extremely effective course uses a one-technique approach that can be applied in any situation and has been taught with success to women ranging in ages from 11-80. \nOur instructors go through a certification process that can last upwards of four years before being approved to teach this course – we are very aware of the sensitive nature of this type of class and respect that. It is always the woman’s choice to take part in\, or sit out\, any part of the training. Our goal is to ensure that you get home safely to those that love you and need you back. \n  \n  \n  \nTopics covered include: \n\nThreat awareness\nUsing fear and adrenaline to your advantage\nThe truth about rape\nThe survival mindset\nRisk reduction\nYour car as a weapon\nFighting from inside cars\nFighting without speed or strength\nEveryday items as weapons\nWeapons disarmament and familiarization\n\nSchedule:\n9am to 5 pm \nCourse designed by Jeffrey Prather. \n
URL:https://warriorschool.com/course/ladies-fightback/
LOCATION:Broadway Classroom\, 4518 East Broadway\, Tucson\, AZ\, 85711\, United States
GEO:32.2210847;-110.896308
X-APPLE-STRUCTURED-LOCATION;VALUE=URI;X-ADDRESS=Broadway Classroom 4518 East Broadway Tucson AZ 85711 United States;X-APPLE-RADIUS=500;X-TITLE=4518 East Broadway:geo:-110.896308,32.2210847
CATEGORIES:All,Defense
ORGANIZER;CN="Warrior%20School":MAILTO:info@warriorschool.com
END:VEVENT
END:VCALENDAR