BEGIN:VCALENDAR
VERSION:2.0
PRODID:-//WarriorSchool - ECPv4.9.2//NONSGML v1.0//EN
CALSCALE:GREGORIAN
METHOD:PUBLISH
X-WR-CALNAME:WarriorSchool
X-ORIGINAL-URL:https://warriorschool.com
X-WR-CALDESC:Events for WarriorSchool
BEGIN:VEVENT
DTSTART;TZID=UTC-7:20191109T170000
DTEND;TZID=UTC-7:20191109T210000
DTSTAMP:20260420T054219
CREATED:20191105T235839Z
LAST-MODIFIED:20191105T235839Z
UID:2287-1573318800-1573333200@warriorschool.com
SUMMARY:HMAC Live Fire Range
DESCRIPTION:HMAC Live Fire Range: This live fire shoot is only for HMAC members. \nPractice the range of fundamentals to advanced skills of defensive handgun fighting. \nAmmunition: 250 rounds. \nNIGHT SHOOT 5-9PM \n
URL:https://warriorschool.com/course/hmac-live-fire-range-7/
LOCATION:Broadway Classroom\, 4518 East Broadway\, Tucson\, AZ\, 85711\, United States
GEO:32.2210847;-110.896308
X-APPLE-STRUCTURED-LOCATION;VALUE=URI;X-ADDRESS=Broadway Classroom 4518 East Broadway Tucson AZ 85711 United States;X-APPLE-RADIUS=500;X-TITLE=4518 East Broadway:geo:-110.896308,32.2210847
CATEGORIES:Defense,Security
ORGANIZER;CN="Warrior%20School":MAILTO:info@warriorschool.com
END:VEVENT
END:VCALENDAR