BEGIN:VCALENDAR
VERSION:2.0
PRODID:-//WarriorSchool - ECPv4.9.2//NONSGML v1.0//EN
CALSCALE:GREGORIAN
METHOD:PUBLISH
X-WR-CALNAME:WarriorSchool
X-ORIGINAL-URL:https://warriorschool.com
X-WR-CALDESC:Events for WarriorSchool
BEGIN:VEVENT
DTSTART;TZID=UTC-7:20231119T080000
DTEND;TZID=UTC-7:20231119T160000
DTSTAMP:20260425T134914
CREATED:20231109T184640Z
LAST-MODIFIED:20231109T184801Z
UID:2878-1700380800-1700409600@warriorschool.com
SUMMARY:HMAC Live Fire Range
DESCRIPTION:HMAC Live Fire Range: This live fire shoot is only for HMAC members. \n  \nSUNDAY 19 November 2023 \nThe Tan Shirt (beginner) shoot is scheduled to begin at 8:00 to 11:00 am. \nThe Black Shirt (advanced) shoot is schedule to begin at 11:30 am to 4:00 pm. \n
URL:https://warriorschool.com/course/hmac-live-fire-range-12/
LOCATION:Shooting Range\, United States
GEO:37.09024;-95.712891
CATEGORIES:Defense,Security
ORGANIZER;CN="Warrior%20School":MAILTO:info@warriorschool.com
END:VEVENT
END:VCALENDAR