BEGIN:VCALENDAR
VERSION:2.0
PRODID:-//WarriorSchool - ECPv4.9.2//NONSGML v1.0//EN
CALSCALE:GREGORIAN
METHOD:PUBLISH
X-WR-CALNAME:WarriorSchool
X-ORIGINAL-URL:https://warriorschool.com
X-WR-CALDESC:Events for WarriorSchool
BEGIN:VEVENT
DTSTART;TZID=UTC-7:20211026T080000
DTEND;TZID=UTC-7:20211030T170000
DTSTAMP:20260421T053249
CREATED:20210719T231619Z
LAST-MODIFIED:20210719T231838Z
UID:2585-1635235200-1635613200@warriorschool.com
SUMMARY:HMAC Instructor Course
DESCRIPTION:IMPORTANT :  **** If You don’t know the difference between a speed reload and a tactical reload this is not for you. \n\nFee: $1500\nPre-Registration No Later Than Oct 15\, 2021\nIncludes: Training\, Handbook\, Certificate\, Membership\, first year of certification\, shirt and card. Attendees should purchase HMAC online video and HMAC handbook prior to school for pre-study!\nCertification: NOT Guaranteed.  You must train and test to teach. Adding to your tactical skillset is!\nTraining covers: live night fire\, NVGs\, off range kata\, UTMs\, I-target/Mantis\, blue gun force on force\, lecture\, law and more!\nFor: Prior service/LEO\, ex-Specops/ex-SWAT\, accomplished civilian shooters\, FI\, PFIs.\nAvailable: Ammo\, weapons\, kit available for purchase and rental.\nLodging and meals: Not provided.\n\n  \n\nOct 26: 1500-1800+ HMAC Orientation\, Registration\nOCT 27: 0900-1130 Coaching/Evaluation\, 1600-2000 Prep\, Class\, Debrief\nOCT 28: 0900-1130 Coaching/Evaluation 1300-1700 Testing Retraining\, \n1800–2100-night Light Gunfight range\nOCT 29: 0700-1200 Range 1300-1700 Target Review/ Evaluation/Coaching\nOCT 30: 0900-1200N Review\, Retest\, Graduate\n\n  \nGun: 9mm Compact+\, BUG\, \nKit: Blade\, light\, 3 mags\, holsters\, range/EDC wear \nAmmo: 1000 rounds \nQuestions info@warriorschool.com or leave message at 520/241-7690. \nFreedom is Taken! \n
URL:https://warriorschool.com/course/hmac-instructor-course/
LOCATION:Broadway Classroom\, 4518 East Broadway\, Tucson\, AZ\, 85711\, United States
GEO:32.2210847;-110.896308
X-APPLE-STRUCTURED-LOCATION;VALUE=URI;X-ADDRESS=Broadway Classroom 4518 East Broadway Tucson AZ 85711 United States;X-APPLE-RADIUS=500;X-TITLE=4518 East Broadway:geo:-110.896308,32.2210847
CATEGORIES:Defense,Security
ORGANIZER;CN="Warrior%20School":MAILTO:info@warriorschool.com
END:VEVENT
END:VCALENDAR