BEGIN:VCALENDAR
VERSION:2.0
PRODID:-//WarriorSchool - ECPv4.9.2//NONSGML v1.0//EN
CALSCALE:GREGORIAN
METHOD:PUBLISH
X-WR-CALNAME:WarriorSchool
X-ORIGINAL-URL:https://warriorschool.com
X-WR-CALDESC:Events for WarriorSchool
BEGIN:VEVENT
DTSTART;TZID=UTC-7:20200926T120000
DTEND;TZID=UTC-7:20200926T140000
DTSTAMP:20260423T132720
CREATED:20180108T174343Z
LAST-MODIFIED:20200908T232403Z
UID:1071-1601121600-1601128800@warriorschool.com
SUMMARY:Fightback!  Self Defense for Ladies
DESCRIPTION: \nFIGHTBACK!  \nSaturday September 26\, 2020 \n12 pm to 2 pm \nLive free from fear.  Fightback is a fun\, safe\, ladies-only\, self-defense course. \nFightback uses proven\, natural body movement to counter attacks against women in any situation.  \nDoes not require speed or strength! Fightback has been taught worldwide to ladies from ages 11 to 80!  \nAll training is voluntary. Taught by Fightback and Warriorschool founder\, master martial artist Jeff Prather. Forget fantasy film fights.  \nVia lecture and kinetics you will learn to ensure that you come home safely to those that love and need you! You learn: \n\n Threat awareness \n Using fear and adrenaline \n Fighting without speed or strength \n The truth about rape • the survival mindset • your car as a weapon\n Escape while pinned on your back • Knife and gun disarmament\n\n  \n4518 East Broadway Blvd $30 per person \n
URL:https://warriorschool.com/course/fightback-self-defense-for-ladies-2/
LOCATION:Broadway Classroom\, 4518 East Broadway\, Tucson\, AZ\, 85711\, United States
GEO:32.2210847;-110.896308
X-APPLE-STRUCTURED-LOCATION;VALUE=URI;X-ADDRESS=Broadway Classroom 4518 East Broadway Tucson AZ 85711 United States;X-APPLE-RADIUS=500;X-TITLE=4518 East Broadway:geo:-110.896308,32.2210847
CATEGORIES:Defense
ORGANIZER;CN="Warrior%20School":MAILTO:info@warriorschool.com
END:VEVENT
END:VCALENDAR