BEGIN:VCALENDAR
VERSION:2.0
PRODID:-//WarriorSchool - ECPv4.9.2//NONSGML v1.0//EN
CALSCALE:GREGORIAN
METHOD:PUBLISH
X-WR-CALNAME:WarriorSchool
X-ORIGINAL-URL:https://warriorschool.com
X-WR-CALDESC:Events for WarriorSchool
BEGIN:VEVENT
DTSTART;TZID=UTC-7:20171005T080000
DTEND;TZID=UTC-7:20171008T170000
DTSTAMP:20260422T200900
CREATED:20161230T182359Z
LAST-MODIFIED:20161230T182442Z
UID:462-1507190400-1507482000@warriorschool.com
SUMMARY:4 Day Pistol Package
DESCRIPTION:4 Day Pistol Package \nThis course is for both advanced and new shooters\, starting with detailed fundamentals rarely taught elsewhere and and progressing to cutting edge combat pistol capabilities. \nDay 1: Defensive Pistol: This course provides you with state of the art training for handgun personal defense!  Don’t worry if you have never fired a weapon before\, we have vast experience in training beginners. \nEven experienced shooters will gain new refinements in accuracy and techniques.  Weapon Safety both on the range and in the home. How to keep guns safely in the house with children. Legal ramifications of using a firearm for defense. \nThe parts of a gun and how they work. How a bullet works and how it stops and attacker. Choosing the right gun\, ammunition and accessories. Drawing\, gripping and firing your weapon. Malfunction recovery and Immediate action drills. \nDay 2: Intermediate Pistol: This course furthers the shooter’s training in gunfight dynamics under stress. Covers engagement methods of controlled pair versus hammer\, versus failure to stop\, versus nonstandard response. \nIncludes combat versus marksmanship stances\, including standing\, kneeling firing to 25 yards. Also covers remedial action\, tactical reload\, lateral movement. Wounded weak hand shooting\, changing hands is also covered as well as decision shoot or not shoot techniques. \nDay 3: Home & Car Defense: Self defense and protection of family is the right\, responsibility\, and duty of every citizen.  Since we live and work in buildings and cars\, it is necessary to have an appreciation of how these environments affect the dynamics of a gunfight. \nThis course will teach you how to move\, take cover\, shield loved-ones and develop tactical strategies for defense in the environments were you live and work.  Close combat techniques such as weapon retention\, and shooting while shielding loved ones are included. \nAlso covers moving and shooting\, moving without flagging\, lateral move\, pivot and shoot\, 180 pivot\, ballistics demonstration on building materials\, barricade shooting\, cover versus concealment\, slicing the pie\, shooting from in\, around\, and behind a car and bed\, shooting while shielding\, individual tactical movement in a building\, home defense strategy. \nDay 4: Active Shooter Response : This course offers realistic training for the ultimate in the protection of innocent people. This course takes the graduate of Home and Car Defense from the ability to protect the family and expands this to the community. \nStudents will learn to approach active shooters through a crowd and fire a debilitating shot at a terrorist. Interviewing witnesses\, soliciting assistance and surgical shooting are thoroughly covered. \nStudies have shown the only effective way to reduce loss of life by an active shooter is by armed confrontation.  You have chosen to accept that responsibility; Warriorschool will show you how. \nMost armed church security personnel are woefully unprepared for an active shooter in a crowd scenario. Active Shooter Response teaches the grim reality of crowd shootings and how to save life rather than miss and take more. \nThis course includes live interactive fire using both live and simulated munitions. Covers the next level tactics\, techniques and practices including moving through a crowd safely\, close ready\, high ready\, pre- and post shoot protocols\, precision shooting\, especially threat and crowd command and control. \n  \n  \n  \n
URL:https://warriorschool.com/course/4-day-pistol-package/
LOCATION:Shooting Range\, United States
GEO:37.09024;-95.712891
CATEGORIES:All,Defense
ORGANIZER;CN="Warrior%20School":MAILTO:info@warriorschool.com
END:VEVENT
END:VCALENDAR